Workbook

Sheet Pag. 1
A1: SCHEDA VERIFICA ISCRIZIONI
A2: MOTORADUNO (nome) | I2: LOCALITA | P2: DATE
A3: Partecipanti | B3: SOCIO | C3: AMICO | D3: OSPITE | E3: Moto | F3: Auto | G3: Gilet | H3: Allergia | I3: Intolleranza | J3: GIOV cena | K3: VEN pranzo | L3: VEN cena | M3: SAB pranzo | N3: SAB cena | O3: DOM pranzo | P3: Visita a ? | Q3: Visita a ? | R3: ? | S3: ? | T3: PAGATO €
A18: TOTALE | B18: =SUM(B4:B17)+SUM('Pag. 2'!B4:B18) -> 0 | C18: =SUM(C4:C17)+SUM('Pag. 2'!C4:C18) -> 0 | D18: =SUM(D4:D17)+SUM('Pag. 2'!D4:D18) -> 0 | E18: =SUM(E4:E17)+SUM('Pag. 2'!E4:E18) -> 0 | F18: =SUM(F4:F17)+SUM('Pag. 2'!F4:F18) -> 0 | G18: =SUM(G4:G17)+SUM('Pag. 2'!G4:G18) -> 0 | H18: =SUM(H4:H17)+SUM('Pag. 2'!H4:H18) -> 0 | I18: =SUM(I4:I17)+SUM('Pag. 2'!I4:I18) -> 0 | ... T18: =SUM(T4:T17)+SUM('Pag. 2'!T4:T18) -> 0

Sheet Pag. 2
A1: SCHEDA VERIFICA ISCRIZIONI
A2: MOTORADUNO (nome) | I2: LOCALITA | P2: DATE
A3: Partecipanti | B3: SOCIO | C3: AMICO | D3: OSPITE | E3: Moto | F3: Auto | G3: Gilet | H3: Allergia | I3: Intolleranza | J3: GIOV cena | K3: VEN pranzo | L3: VEN cena | M3: SAB pranzo | N3: SAB cena | O3: DOM pranzo | P3: Visita a ? | Q3: Visita a ? | R3: ? | S3: ? | T3: PAGATO €

Sheet Pag. 3
A1: SCHEDA VERIFICA ISCRIZIONI
A2: MOTORADUNO (nome) | I2: LOCALITA | P2: DATE
A3: Partecipanti | B3: SOCIO | C3: AMICO | D3: OSPITE | E3: Moto | F3: Auto | G3: Gilet | H3: Allergia | I3: Intolleranza | J3: GIOV cena | K3: VEN pranzo | L3: VEN cena | M3: SAB pranzo | N3: SAB cena | O3: DOM pranzo | P3: Visita a ? | Q3: Visita a ? | R3: ? | S3: ? | T3: PAGATO €
A18: TOTALE | B18: =SUM(B4:B17)+SUM('Pag. 2'!B4:B18) -> 0 | C18: =SUM(C4:C17)+SUM('Pag. 2'!C4:C18) -> 0 | D18: =SUM(D4:D17)+SUM('Pag. 2'!D4:D18) -> 0 | E18: =SUM(E4:E17)+SUM('Pag. 2'!E4:E18) -> 0 | F18: =SUM(F4:F17)+SUM('Pag. 2'!F4:F18) -> 0 | G18: =SUM(G4:G17)+SUM('Pag. 2'!G4:G18) -> 0 | H18: =SUM(H4:H17)+SUM('Pag. 2'!H4:H18) -> 0 | I18: =SUM(I4:I17)+SUM('Pag. 2'!I4:I18) -> 0 | ... T18: =SUM(T4:T17)+SUM('Pag. 2'!T4:T18) -> 0
